BEGIN:VCALENDAR
VERSION:2.0
PRODID:-//Talks.cam//talks.cam.ac.uk//
X-WR-CALNAME:Talks.cam
BEGIN:VEVENT
SUMMARY:A New Millisecond Pulsar in 47 Tucanae - Natasha Hurley-Walker\, A
 strophysics Group\, Dept. of Physics
DTSTART:20051116T110000Z
DTEND:20051116T111500Z
UID:TALK4555@talks.cam.ac.uk
CONTACT:John Young
DESCRIPTION:Details to be confirmed
LOCATION:Ryle Seminar Room\, Rutherford Building\, Cavendish Laboratory\, 
 Department of Physics
END:VEVENT
END:VCALENDAR
