BEGIN:VCALENDAR
VERSION:2.0
PRODID:-//Talks.cam//talks.cam.ac.uk//
X-WR-CALNAME:Talks.cam
BEGIN:VEVENT
SUMMARY:Models of low-Reynolds-number swimmers and colloidal particles in 
 confined domains - Crowdy\, D (Imperial College London)
DTSTART:20130625T080000Z
DTEND:20130625T084500Z
UID:TALK45902@talks.cam.ac.uk
CONTACT:Mustapha Amrani
DESCRIPTION:The talk will survey some simple mathematical models to gain i
 nsights into the dynamics of particles or swimmers of various kinds moving
  at zero Reynolds numbers in geometrically complex domains bounded by no-s
 lip walls and/or free surfaces.\n
LOCATION:Seminar Room 1\, Newton Institute
END:VEVENT
END:VCALENDAR
