BEGIN:VCALENDAR
VERSION:2.0
PRODID:-//Talks.cam//talks.cam.ac.uk//
X-WR-CALNAME:Talks.cam
BEGIN:VEVENT
SUMMARY:Transition from the viscous to the inertial regime in dense suspen
 sions - Trulsson\, M\, Andreotti\, B\, Claudin\, P (Cornell University)
DTSTART:20130701T104000Z
DTEND:20130701T110000Z
UID:TALK46004@talks.cam.ac.uk
CONTACT:Mustapha Amrani
DESCRIPTION:2013/07/01
LOCATION:Seminar Room 1\, Newton Institute
END:VEVENT
END:VCALENDAR
