BEGIN:VCALENDAR
VERSION:2.0
PRODID:-//Talks.cam//talks.cam.ac.uk//
X-WR-CALNAME:Talks.cam
BEGIN:VEVENT
SUMMARY:New regimes and phase transitions in channeled granular flows - De
 lannay\, R\, Brodu\, N\, Richard\, P (University of Pennsylvania)
DTSTART:20130703T102000Z
DTEND:20130703T104000Z
UID:TALK46049@talks.cam.ac.uk
CONTACT:Mustapha Amrani
DESCRIPTION:2013/07/03
LOCATION:Seminar Room 1\, Newton Institute
END:VEVENT
END:VCALENDAR
