BEGIN:VCALENDAR
VERSION:2.0
PRODID:-//Talks.cam//talks.cam.ac.uk//
X-WR-CALNAME:Talks.cam
BEGIN:VEVENT
SUMMARY:Experiences and challenges of setting up biobanks and biobanking n
 etworks  - Kirstin Goldring - BioBank facilitator\, UCL BioBank\, London
DTSTART:20140217T090000Z
DTEND:20140217T170000Z
UID:TALK46087@talks.cam.ac.uk
CONTACT:Speaker to be confirmed
DESCRIPTION:Biobanking 2014 will discuss the skills and efforts needed to 
 set up and maintain the banking of Biospecimens used for basic research th
 rough clinical trials. How to set up efficient and effective collection\, 
 processing\, storage\, and tracking of biospecimens will be discussed.  Br
 inging together biomedical and biopharmaceutical researchers\, regulators\
 , biorepository managers\, and practitioners this event will  investigate 
 the best methods for effective storage of biospecimens in the 21st Century
 .\n\nwww.regonline.co.uk/biobanking2014
LOCATION:Cineworld: The O2\, Peninsula Square\, London\, SE10 0DX
END:VEVENT
END:VCALENDAR
