BEGIN:VCALENDAR
VERSION:2.0
PRODID:-//Talks.cam//talks.cam.ac.uk//
X-WR-CALNAME:Talks.cam
BEGIN:VEVENT
SUMMARY:Cambridge Public Policy Seminar: Title TBC - TBC
DTSTART:20140515T120000Z
DTEND:20140515T130000Z
UID:TALK46273@talks.cam.ac.uk
CONTACT:Miranda Gomperts
DESCRIPTION:Abstract not available
LOCATION:Room S1\, Department of Politics and International Studies\, Alis
 on Richard Building\, 7 West Road\, Cambridge 
END:VEVENT
END:VCALENDAR
