BEGIN:VCALENDAR
VERSION:2.0
PRODID:-//Talks.cam//talks.cam.ac.uk//
X-WR-CALNAME:Talks.cam
BEGIN:VEVENT
SUMMARY:The suppression of Rossby wave generation on the polar vortex foll
 owing major sudden stratospheric warmings - Laelia Vaulot (University of C
 ambridge)
DTSTART:20130718T120000Z
DTEND:20130718T130000Z
UID:TALK46327@talks.cam.ac.uk
CONTACT:Alison Ming
DESCRIPTION:Abstract not available
LOCATION: Centre for Mathematical Sciences\, MR 15
END:VEVENT
END:VCALENDAR
