BEGIN:VCALENDAR
VERSION:2.0
PRODID:-//Talks.cam//talks.cam.ac.uk//
X-WR-CALNAME:Talks.cam
BEGIN:VEVENT
SUMMARY:Conservation of Binding by Leukocyte Receptor Complex family membe
 rs to Class I Antigen Presenting Molecules: Why does KIR3DL1 bind Mouse H-
 2Db? - Dr Deborah Burshtyn\, University of Alberta\, Canada
DTSTART:20130925T113000Z
DTEND:20130925T123000Z
UID:TALK46333@talks.cam.ac.uk
CONTACT:Sue Griffin
DESCRIPTION:Abstract not available
LOCATION:Lecture Theatre\, Department of Pathology\, Tennis Court Road
END:VEVENT
END:VCALENDAR
