BEGIN:VCALENDAR
VERSION:2.0
PRODID:-//Talks.cam//talks.cam.ac.uk//
X-WR-CALNAME:Talks.cam
BEGIN:VEVENT
SUMMARY:Mathematical Models for the Control of Infectious Diseases With Va
 ccines - Longini\, I (University of Florida)
DTSTART:20130819T123000Z
DTEND:20130819T130000Z
UID:TALK46692@talks.cam.ac.uk
CONTACT:Mustapha Amrani
DESCRIPTION:In this talk\, I will present the general formulation for the 
 control of infectious diseases with vaccines. I will then present a number
  of examples including the control of influenza\, cholera and dengue.\n
LOCATION:Seminar Room 1\, Newton Institute
END:VEVENT
END:VCALENDAR
