BEGIN:VCALENDAR
VERSION:2.0
PRODID:-//Talks.cam//talks.cam.ac.uk//
X-WR-CALNAME:Talks.cam
BEGIN:VEVENT
SUMMARY:Memory control deficits in Post-Traumatic Stress Disorder - Ana Ca
 tarino (MRC Cognition &amp\; Brain Sciences Unit)
DTSTART:20131127T123000Z
DTEND:20131127T133000Z
UID:TALK46715@talks.cam.ac.uk
CONTACT:Mandy Carter
DESCRIPTION:Abstract not available
LOCATION:Lecture Theatre\, MRC Cognition and Brain Sciences Unit\, Chaucer
  Road
END:VEVENT
END:VCALENDAR
