BEGIN:VCALENDAR
VERSION:2.0
PRODID:-//Talks.cam//talks.cam.ac.uk//
X-WR-CALNAME:Talks.cam
BEGIN:VEVENT
SUMMARY:Chris Huhne - UK Government climate\, energy and environmental pol
 icy - Chris Huhne\, former UK Secretary of State for Energy and Climate Ch
 ange
DTSTART:20130905T160000Z
DTEND:20130905T170000Z
UID:TALK46862@talks.cam.ac.uk
CONTACT:Dr Theo Hacking
DESCRIPTION:The Master’s in Sustainability Leadership\, run by the Cambr
 idge Programme for Sustainability Leadership\, is delighted to welcome Chr
 is Huhne\, former UK Secretary of State for Energy and Climate Change\, to
  give a keynote address as part of the Master’s module on Policy and Reg
 ulation. University members are welcome to hear Chris Huhne share insight 
 on his experience in the UK Government developing climate\, energy and env
 ironmental policy.   
LOCATION:Engineering Department\, Lecture Room 0
END:VEVENT
END:VCALENDAR
