BEGIN:VCALENDAR
VERSION:2.0
PRODID:-//Talks.cam//talks.cam.ac.uk//
X-WR-CALNAME:Talks.cam
BEGIN:VEVENT
SUMMARY:Bookshelf faulting and rotations in the north Iceland volcanic rif
 t segments - Rob Green (University of Cambridge)
DTSTART:20131025T153000Z
DTEND:20131025T163000Z
UID:TALK46911@talks.cam.ac.uk
CONTACT:John Rudge
DESCRIPTION:Abstract not available
LOCATION:Tea Room\, Old House
END:VEVENT
END:VCALENDAR
