BEGIN:VCALENDAR
VERSION:2.0
PRODID:-//Talks.cam//talks.cam.ac.uk//
X-WR-CALNAME:Talks.cam
BEGIN:VEVENT
SUMMARY:'The 'blur' of metabolic disease genetics: Epigenetic determinants
  of stochastic obesity and beta-cell fate stability' - J. Andrew Pospisili
 k\, PhD\, Max Planck Institute of Immunobiology and Epigenetics
DTSTART:20131120T130000Z
DTEND:20131120T140000Z
UID:TALK46931@talks.cam.ac.uk
CONTACT:34048
DESCRIPTION:Abstract not available
LOCATION:Sir Brian Heap Room\,  Riverside Meeting Rooms\, The Babraham Ins
 titute
END:VEVENT
END:VCALENDAR
