BEGIN:VCALENDAR
VERSION:2.0
PRODID:-//Talks.cam//talks.cam.ac.uk//
X-WR-CALNAME:Talks.cam
BEGIN:VEVENT
SUMMARY:Tracking the early stages of star formation - Serena Viti\, UCL
DTSTART:20060214T163000Z
DTEND:20060214T173000Z
UID:TALK4698@talks.cam.ac.uk
CONTACT:Phil Cowans
DESCRIPTION:Details to be confirmed
LOCATION:Ryle Seminar Room\, Cavendish Laboratory
END:VEVENT
END:VCALENDAR
