BEGIN:VCALENDAR
VERSION:2.0
PRODID:-//Talks.cam//talks.cam.ac.uk//
X-WR-CALNAME:Talks.cam
BEGIN:VEVENT
SUMMARY:The resource theory of magic states - Gottesman\, D (Perimeter Ins
 titute\, Waterloo)
DTSTART:20130911T140000Z
DTEND:20130911T150000Z
UID:TALK47049@talks.cam.ac.uk
CONTACT:Mustapha Amrani
DESCRIPTION:2013/09/11
LOCATION:Seminar Room 1\, Newton Institute
END:VEVENT
END:VCALENDAR
