BEGIN:VCALENDAR
VERSION:2.0
PRODID:-//Talks.cam//talks.cam.ac.uk//
X-WR-CALNAME:Talks.cam
BEGIN:VEVENT
SUMMARY:Edge theories in tensor network states - Verstrate\, F (Universite
 it Gent)
DTSTART:20130919T100000Z
DTEND:20130919T104500Z
UID:TALK47207@talks.cam.ac.uk
CONTACT:Mustapha Amrani
DESCRIPTION:2013/09/18
LOCATION:Seminar Room 1\, Newton Institute
END:VEVENT
END:VCALENDAR
