BEGIN:VCALENDAR
VERSION:2.0
PRODID:-//Talks.cam//talks.cam.ac.uk//
X-WR-CALNAME:Talks.cam
BEGIN:VEVENT
SUMMARY:An Introduction to TES Detectors - Louisa Dunlop\, Cavendish Astro
 physics
DTSTART:20060222T110000Z
DTEND:20060222T111500Z
UID:TALK4729@talks.cam.ac.uk
CONTACT:John Young
DESCRIPTION:Details to be confirmed
LOCATION:Ryle Seminar Room\, Rutherford Building\, Cavendish Laboratory\, 
 Department of Physics
END:VEVENT
END:VCALENDAR
