BEGIN:VCALENDAR
VERSION:2.0
PRODID:-//Talks.cam//talks.cam.ac.uk//
X-WR-CALNAME:Talks.cam
BEGIN:VEVENT
SUMMARY:Quantum renormalization group and holography - Lee\, SS (McMaster 
 University)
DTSTART:20130920T104500Z
DTEND:20130920T113000Z
UID:TALK47297@talks.cam.ac.uk
CONTACT:Mustapha Amrani
DESCRIPTION:In this talk\, I will discuss about the quantum renormalizatio
 n group and its connection to holography. Via quantum renormalization grou
 p procedure\, one can show that the holographic dual for an idealized matr
 ix field theory which has no other operator with finite scaling dimension 
 besides the energy-momentum tensor is the Einstein gravity upto two deriva
 tive order.\n
LOCATION:Seminar Room 1\, Newton Institute
END:VEVENT
END:VCALENDAR
