BEGIN:VCALENDAR
VERSION:2.0
PRODID:-//Talks.cam//talks.cam.ac.uk//
X-WR-CALNAME:Talks.cam
BEGIN:VEVENT
SUMMARY:Family life: the evolution of social organisation and prosociality
  in primates and cetaceans - Susanne Shultz\, University of Manchester
DTSTART:20140218T160000Z
DTEND:20140218T170000Z
UID:TALK47366@talks.cam.ac.uk
CONTACT:Dr Hannah Rowland
DESCRIPTION:Abstract not available
LOCATION:Part II Lecture Theatre\, Department of Zoology
END:VEVENT
END:VCALENDAR
