BEGIN:VCALENDAR
VERSION:2.0
PRODID:-//Talks.cam//talks.cam.ac.uk//
X-WR-CALNAME:Talks.cam
BEGIN:VEVENT
SUMMARY:Population divergence and reproductive isolation in an Anolis liza
 rd - Jessica Stapley\, University of Sheffield
DTSTART:20131105T160000Z
DTEND:20131105T170000Z
UID:TALK47413@talks.cam.ac.uk
CONTACT:Dr Hannah Rowland
DESCRIPTION:Abstract not available
LOCATION:Part II Lecture Theatre\, Department of Zoology
END:VEVENT
END:VCALENDAR
