BEGIN:VCALENDAR
VERSION:2.0
PRODID:-//Talks.cam//talks.cam.ac.uk//
X-WR-CALNAME:Talks.cam
BEGIN:VEVENT
SUMMARY:Margaret Mead as a mid-20th century public intellectual - Professo
 r Peter Mandler\, Faculty of History\, University of Cambridge
DTSTART:20131014T113000Z
DTEND:20131014T123000Z
UID:TALK47443@talks.cam.ac.uk
CONTACT:16895
DESCRIPTION:The Gender Research Seminars offer academics and graduate stud
 ents an opportunity to present their work-in-progress to a multi-disciplin
 ary audience interested in gender\, in a friendly and informal atmosphere.
  
LOCATION:Lightfoot Room\, Divinity School\, St John's College\, Cambridge\
 , CB2 1TP
END:VEVENT
END:VCALENDAR
