BEGIN:VCALENDAR
VERSION:2.0
PRODID:-//Talks.cam//talks.cam.ac.uk//
X-WR-CALNAME:Talks.cam
BEGIN:VEVENT
SUMMARY:Introduction into Chemical Analysis for Electron Microscopy (EELS\
 , EDS) - Prof. M. Brown\, (PCS\, Physics\, Cambridge)
DTSTART:20060223T110000Z
DTEND:20060223T120000Z
UID:TALK4746@talks.cam.ac.uk
CONTACT:Duncan Simpson
DESCRIPTION:\n	\n
LOCATION:Mott Seminar Room\, Cavendish Laboratory\, Department of Physics
END:VEVENT
END:VCALENDAR
