BEGIN:VCALENDAR
VERSION:2.0
PRODID:-//Talks.cam//talks.cam.ac.uk//
X-WR-CALNAME:Talks.cam
BEGIN:VEVENT
SUMMARY:Title to be confirmed - TBA
DTSTART:20131127T160000Z
DTEND:20131127T170000Z
UID:TALK47507@talks.cam.ac.uk
CONTACT:David Al-Attar
DESCRIPTION:Abstract not available
LOCATION:Marine/Wolfson Building lecture hall
END:VEVENT
END:VCALENDAR
