BEGIN:VCALENDAR
VERSION:2.0
PRODID:-//Talks.cam//talks.cam.ac.uk//
X-WR-CALNAME:Talks.cam
BEGIN:VEVENT
SUMMARY:Bird flu\, MMR\, herceptin\; Medicine and the Media. - Steve Smith
 \, Cambridge University
DTSTART:20060203T130000Z
DTEND:20060203T140000Z
UID:TALK4752@talks.cam.ac.uk
CONTACT:Ryan Prescott Adams
DESCRIPTION:This talk will explore some of the issues surounding the media
 's handling of healthcare and biomedical news stories and the impact of th
 at handling on both the public and the healthcare and scientific communiti
 es.
LOCATION:Number 1 Newnham Terrace\, Darwin College
END:VEVENT
END:VCALENDAR
