BEGIN:VCALENDAR
VERSION:2.0
PRODID:-//Talks.cam//talks.cam.ac.uk//
X-WR-CALNAME:Talks.cam
BEGIN:VEVENT
SUMMARY:The 'Tropical Dominions' - the appeal of Dominion Status in the de
 colonisation of India\, Pakistan and Ceylon - Harshan Kumurasingham (Unive
 rsity of Potsdam)
DTSTART:20131023T160000Z
DTEND:20131023T170000Z
UID:TALK47543@talks.cam.ac.uk
CONTACT:34344
DESCRIPTION:Abstract not available
LOCATION:Seminar Room SG1\, Alison Richard Building\, 5.00 pm
END:VEVENT
END:VCALENDAR
