BEGIN:VCALENDAR
VERSION:2.0
PRODID:-//Talks.cam//talks.cam.ac.uk//
X-WR-CALNAME:Talks.cam
BEGIN:VEVENT
SUMMARY:Colonial South Asia: cultural conflicts and racial hierarchies  - 
 Dr Annamaria Motrescu-Mayes\, Research Fellow\, Clare Hall\; Affiliated Le
 cturer and Research Associate\, Centre of South Asian Studies
DTSTART:20131015T150000Z
DTEND:20131015T163000Z
UID:TALK47665@talks.cam.ac.uk
CONTACT:Dr Annamaria Motrescu-Mayes
DESCRIPTION:This seminar explores questions about the ideological impact o
 f the British rule in India and how it had been translated across visual r
 epresentation of cultural conflicts and racial hierarchies. A particular f
 ocus is put on comparing first person visual narratives\, i.e. colonial am
 ateur films\, with commercial and propaganda productions.
LOCATION:S3 Seminar Room\, Alison Richard Building\, 7 West Road\, Cambrid
 ge\, CB3 9DP.
END:VEVENT
END:VCALENDAR
