BEGIN:VCALENDAR
VERSION:2.0
PRODID:-//Talks.cam//talks.cam.ac.uk//
X-WR-CALNAME:Talks.cam
BEGIN:VEVENT
SUMMARY:American History Seminar - Andrew Preston\, University of Cambridg
 e
DTSTART:20131202T170000Z
DTEND:20131202T190000Z
UID:TALK47814@talks.cam.ac.uk
CONTACT:Suzanne Donovan
DESCRIPTION:How Self- Defence went Global: A HIstory of National SEcurity\
 , from World War 1 to Vietnam
LOCATION:Latimer  Room\, Clare College Old Court
END:VEVENT
END:VCALENDAR
