BEGIN:VCALENDAR
VERSION:2.0
PRODID:-//Talks.cam//talks.cam.ac.uk//
X-WR-CALNAME:Talks.cam
BEGIN:VEVENT
SUMMARY:&quot\;Parkinson's disease modelling of transgenic mice&quot\; - D
 r Simon Stott\, John Van Geest Centre for Brain Repair
DTSTART:20131106T120000Z
DTEND:20131106T130000Z
UID:TALK47852@talks.cam.ac.uk
CONTACT:Shannon Tinley-Browne
DESCRIPTION:Abstract not available
LOCATION:Brain Repair Centre\, Forvie Site\, Robinson Way
END:VEVENT
END:VCALENDAR
