BEGIN:VCALENDAR
VERSION:2.0
PRODID:-//Talks.cam//talks.cam.ac.uk//
X-WR-CALNAME:Talks.cam
BEGIN:VEVENT
SUMMARY: Long-Term Performance of Jointed Plain Concrete Pavements Subject
 ed to Traffic and Environmental Loads - Changwei(Terry) Xu\, CUED
DTSTART:20131108T160000Z
DTEND:20131108T163000Z
UID:TALK48008@talks.cam.ac.uk
CONTACT:Anna Walczyk
DESCRIPTION:TBA
LOCATION:Cambridge University Engineering Department\, Oatley Room 1
END:VEVENT
END:VCALENDAR
