BEGIN:VCALENDAR
VERSION:2.0
PRODID:-//Talks.cam//talks.cam.ac.uk//
X-WR-CALNAME:Talks.cam
BEGIN:VEVENT
SUMMARY:Brown adipose tissue and its role in energy balance through the li
 fe cycle - Michael Symonds\, Nottingham University
DTSTART:20131113T163000Z
DTEND:20131113T173000Z
UID:TALK48104@talks.cam.ac.uk
CONTACT:Jacob Dunn
DESCRIPTION:Abstract not available
LOCATION:Lecture Theatre\, Room 41\, Pembroke Street.
END:VEVENT
END:VCALENDAR
