BEGIN:VCALENDAR
VERSION:2.0
PRODID:-//Talks.cam//talks.cam.ac.uk//
X-WR-CALNAME:Talks.cam
BEGIN:VEVENT
SUMMARY:What can deer tell us about the origins of our voice? - David Reby
 \, University of Sussex
DTSTART:20131127T163000Z
DTEND:20131127T173000Z
UID:TALK48106@talks.cam.ac.uk
CONTACT:Jacob Dunn
DESCRIPTION:Abstract not available
LOCATION:Lecture Theatre\, Room 41\, Pembroke Street.
END:VEVENT
END:VCALENDAR
