BEGIN:VCALENDAR
VERSION:2.0
PRODID:-//Talks.cam//talks.cam.ac.uk//
X-WR-CALNAME:Talks.cam
BEGIN:VEVENT
SUMMARY:Heat transport in rapidly rotating turbulent convection - Dr. Adri
 an Barker (DAMTP)
DTSTART:20131118T160000Z
DTEND:20131118T170000Z
UID:TALK48226@talks.cam.ac.uk
CONTACT:Adrian Barker
DESCRIPTION:Abstract not available
LOCATION:MR14\,  Centre for Mathematical Sciences\, Wilberforce Road\, Cam
 bridge
END:VEVENT
END:VCALENDAR
