BEGIN:VCALENDAR
VERSION:2.0
PRODID:-//Talks.cam//talks.cam.ac.uk//
X-WR-CALNAME:Talks.cam
BEGIN:VEVENT
SUMMARY:The ups and downs of oscillatory quadrature methods - Andreas Ashe
 im (University of Cambridge)
DTSTART:20131211T160000Z
DTEND:20131211T170000Z
UID:TALK48287@talks.cam.ac.uk
CONTACT:Marcus Webb
DESCRIPTION:Abstract not available
LOCATION:MR14\, Centre for Mathematical Sciences
END:VEVENT
END:VCALENDAR
