BEGIN:VCALENDAR
VERSION:2.0
PRODID:-//Talks.cam//talks.cam.ac.uk//
X-WR-CALNAME:Talks.cam
BEGIN:VEVENT
SUMMARY:Uniqueness of pre-images of quantum marginals - Ruskai\, MB (Tufts
  University)
DTSTART:20131018T080000Z
DTEND:20131018T090000Z
UID:TALK48360@talks.cam.ac.uk
CONTACT:Mustapha Amrani
DESCRIPTION:2013/10/18
LOCATION:Seminar Room 1\, Newton Institute
END:VEVENT
END:VCALENDAR
