BEGIN:VCALENDAR
VERSION:2.0
PRODID:-//Talks.cam//talks.cam.ac.uk//
X-WR-CALNAME:Talks.cam
BEGIN:VEVENT
SUMMARY:Conference Talks  - Zhen and whoever interested
DTSTART:20131024T101500Z
DTEND:20131024T111500Z
UID:TALK48485@talks.cam.ac.uk
CONTACT:Jingjing Shen
DESCRIPTION:Share conference talks and pictures inside the group. Zhen and
  others who are interested. 
LOCATION:Rainbow Seminar Room (SS03)\, Computer Laboratory
END:VEVENT
END:VCALENDAR
