BEGIN:VCALENDAR
VERSION:2.0
PRODID:-//Talks.cam//talks.cam.ac.uk//
X-WR-CALNAME:Talks.cam
BEGIN:VEVENT
SUMMARY:Wing size and terminal velocity of the adult emperor\, by C. Love 
 - Bruno Fiction
DTSTART:20121022T100000Z
DTEND:20121022T110000Z
UID:TALK4864@talks.cam.ac.uk
CONTACT:David MacKay
DESCRIPTION:(This is a fictitious event to help document the use of talks.
 cam.)\n\n
LOCATION:Cavendish Laboratory pond
END:VEVENT
END:VCALENDAR
