BEGIN:VCALENDAR
VERSION:2.0
PRODID:-//Talks.cam//talks.cam.ac.uk//
X-WR-CALNAME:Talks.cam
BEGIN:VEVENT
SUMMARY:“To Denervate Or Not To Denervate? That Is The Question”  - Dr
  Ursula Quinn on behalf of Professor Ian Wilkinson   
DTSTART:20131113T133000Z
DTEND:20131113T140000Z
UID:TALK48848@talks.cam.ac.uk
CONTACT:Jason Lynch
DESCRIPTION:Abstract not available
LOCATION:William Harvey Lecture Theatre
END:VEVENT
END:VCALENDAR
