BEGIN:VCALENDAR
VERSION:2.0
PRODID:-//Talks.cam//talks.cam.ac.uk//
X-WR-CALNAME:Talks.cam
BEGIN:VEVENT
SUMMARY:The Welfare of Domestic Cats: What Are the Main Issues and What Ca
 n Be Done About Them? - Irene Rochlitz\, University of Cambridge
DTSTART:20131209T163000Z
DTEND:20131209T180000Z
UID:TALK48854@talks.cam.ac.uk
CONTACT:Anthony Podberscek
DESCRIPTION:Abstract not available
LOCATION:Centre for Animal Welfare & Anthrozoology Seminar Room\, Veterina
 ry Medicine\, Department of
END:VEVENT
END:VCALENDAR
