BEGIN:VCALENDAR
VERSION:2.0
PRODID:-//Talks.cam//talks.cam.ac.uk//
X-WR-CALNAME:Talks.cam
BEGIN:VEVENT
SUMMARY:Extremes in Chaotic Dynamical Systems: Theory and Applications - L
 ucarini\, V (Universitt Hamburg)
DTSTART:20131125T110000Z
DTEND:20131125T120000Z
UID:TALK49011@talks.cam.ac.uk
CONTACT:Mustapha Amrani
DESCRIPTION:2013/11/25
LOCATION:Seminar Room 1\, Newton Institute
END:VEVENT
END:VCALENDAR
