BEGIN:VCALENDAR
VERSION:2.0
PRODID:-//Talks.cam//talks.cam.ac.uk//
X-WR-CALNAME:Talks.cam
BEGIN:VEVENT
SUMMARY:Call My Bluff - Speaker to be confirmed
DTSTART:20131202T203000Z
DTEND:20131202T213000Z
UID:TALK49141@talks.cam.ac.uk
CONTACT:Mary Fortune
DESCRIPTION:Come and celebrate Christmas with the TMS ’s annual Call My 
 Bluff event. Watch a Freshers’ Team take on a team drawn from the combin
 ed might of the rest of the university in a competition in which mathemati
 cal knowledge takes a second place to the ability to hold a good poker fac
 e. And if that is not reason enough to join us\, there will be port.\n\nFr
 eshers’ Team: Andrew Carlotti\, Oliver Feng and Daniel Heydecker\n\nNon-
 Freshers’ Team: Natalie Behague\, Yacoub Kureh and Paul Rubenstein \n\nH
 osted By: Adam P Goucher (with help from James Munro)
LOCATION:Winstanley Lecture Theatre\, Trinity College
END:VEVENT
END:VCALENDAR
