BEGIN:VCALENDAR
VERSION:2.0
PRODID:-//Talks.cam//talks.cam.ac.uk//
X-WR-CALNAME:Talks.cam
BEGIN:VEVENT
SUMMARY:Nuclear fission and fusion - William J Nuttall\, Judge Business Sc
 hool\, Cambridge
DTSTART:20061201T155000Z
DTEND:20061201T163000Z
UID:TALK4928@talks.cam.ac.uk
CONTACT:David MacKay
DESCRIPTION:Abstract not available
LOCATION:Pippard Lecture Theatre\, Cavendish Laboratory\, Department of Ph
 ysics
END:VEVENT
END:VCALENDAR
