BEGIN:VCALENDAR
VERSION:2.0
PRODID:-//Talks.cam//talks.cam.ac.uk//
X-WR-CALNAME:Talks.cam
BEGIN:VEVENT
SUMMARY:Penguins and Palindromes - Mini Minx
DTSTART:20140619T100000Z
DTEND:20140619T110000Z
UID:TALK4931@talks.cam.ac.uk
CONTACT:David MacKay
DESCRIPTION:A cross-disciplinary project is being launched at the Institut
 e for Bats and Belfries\, relating Zoology to Literature. This talk will e
 xplore the extraordinary mirror symmetry of penguins\, which holds when th
 ey are viewed from the front or the rear. \n\n(This is a fictitious event 
 to help document the use of talks.cam.)\n\n
LOCATION:Cavendish Laboratory pond
END:VEVENT
END:VCALENDAR
