BEGIN:VCALENDAR
VERSION:2.0
PRODID:-//Talks.cam//talks.cam.ac.uk//
X-WR-CALNAME:Talks.cam
BEGIN:VEVENT
SUMMARY:deleted - deleted
DTSTART:20140131T160000Z
DTEND:20140131T170000Z
UID:TALK49484@talks.cam.ac.uk
CONTACT:deleted
DESCRIPTION:Abstract not available
LOCATION:N/A
END:VEVENT
END:VCALENDAR
