BEGIN:VCALENDAR
VERSION:2.0
PRODID:-//Talks.cam//talks.cam.ac.uk//
X-WR-CALNAME:Talks.cam
BEGIN:VEVENT
SUMMARY:Why did it take medicine 3\,000 years to become effective? - Dr Al
 lan Chapman\, University of Oxford
DTSTART:20140204T200000Z
DTEND:20140204T211500Z
UID:TALK49643@talks.cam.ac.uk
CONTACT:Adam
DESCRIPTION:Dr Chapman is Emeritus Visiting Professor of the History of Sc
 ience at Gresham College and a member of the Faculty of History at the Uni
 versity of Oxford\, specialising in the history of astronomy and medicine.
 \n\nEveryone is welcome. Free for members\, £2 on the door for non-member
 s. Followed by refreshments (that means smoothies\, cheese and grapes!).
LOCATION:Department of Pharmacology Lecture Theatre\, Tennis Court Road
END:VEVENT
END:VCALENDAR
