BEGIN:VCALENDAR
VERSION:2.0
PRODID:-//Talks.cam//talks.cam.ac.uk//
X-WR-CALNAME:Talks.cam
BEGIN:VEVENT
SUMMARY:Deconstructing inhibitory control and general intelligence - a fun
 ctional network perspective on the organisation of human abilities - Adam 
 Hampshire (Imperial) 
DTSTART:20140305T123000Z
DTEND:20140305T133000Z
UID:TALK49687@talks.cam.ac.uk
CONTACT:Mandy Carter
DESCRIPTION:Abstract not available
LOCATION:Lecture Theatre\, MRC Cognition and Brain Sciences Unit\, Chaucer
  Road
END:VEVENT
END:VCALENDAR
