BEGIN:VCALENDAR
VERSION:2.0
PRODID:-//Talks.cam//talks.cam.ac.uk//
X-WR-CALNAME:Talks.cam
BEGIN:VEVENT
SUMMARY:What can entanglement tell us about black holes and spacetime? - J
 oan Simón (Edinburgh)
DTSTART:20140312T141500Z
DTEND:20140312T151500Z
UID:TALK49773@talks.cam.ac.uk
CONTACT:Dr Joan Camps
DESCRIPTION:Losing information about any physical system generates entropy
 . I will review how this mechanism operates in quantum mechanics\, its rel
 evance for the foundations of statistical mechanics and the physics of bla
 ck holes and the nature of spacetime.
LOCATION:MR2\, Centre for Mathematical Sciences
END:VEVENT
END:VCALENDAR
