BEGIN:VCALENDAR
VERSION:2.0
PRODID:-//Talks.cam//talks.cam.ac.uk//
X-WR-CALNAME:Talks.cam
BEGIN:VEVENT
SUMMARY:Nonlinear Stability of Multilayer Shear Flows - Professor Demetrio
 s Papageorgiou\, Imperial College
DTSTART:20140220T113000Z
DTEND:20140220T123000Z
UID:TALK49878@talks.cam.ac.uk
CONTACT:Catherine Pearson
DESCRIPTION:Abstract not available
LOCATION:Open Plan Area\, BP Institute\, Madingley Rise CB3 0EZ
END:VEVENT
END:VCALENDAR
