BEGIN:VCALENDAR
VERSION:2.0
PRODID:-//Talks.cam//talks.cam.ac.uk//
X-WR-CALNAME:Talks.cam
BEGIN:VEVENT
SUMMARY:The challenges of a Civil Nuclear Future for the UK 2014-2050 - Go
 rdon Waddington\, Rolls-Royce
DTSTART:20140123T163000Z
DTEND:20140123T180000Z
UID:TALK49900@talks.cam.ac.uk
CONTACT:Jo Boyle
DESCRIPTION:Abstract not available
LOCATION:Cambridge University Engineering Department\, Lecture Room 6
END:VEVENT
END:VCALENDAR
