BEGIN:VCALENDAR
VERSION:2.0
PRODID:-//Talks.cam//talks.cam.ac.uk//
X-WR-CALNAME:Talks.cam
BEGIN:VEVENT
SUMMARY:Characterising high-z star forming galaxies revealed by ALMA - Reb
 ecca Williams (Cavendish)
DTSTART:20140129T134500Z
DTEND:20140129T141500Z
UID:TALK49992@talks.cam.ac.uk
CONTACT:28811
DESCRIPTION:Abstract not available
LOCATION:Sackler Lecture Theatre\, IoA
END:VEVENT
END:VCALENDAR
