BEGIN:VCALENDAR
VERSION:2.0
PRODID:-//Talks.cam//talks.cam.ac.uk//
X-WR-CALNAME:Talks.cam
BEGIN:VEVENT
SUMMARY:Dr Alex Lewalle - Optical tweezers: a toolbox for biophysics - Dr 
 Alex Lewalle\, Kings College\, London
DTSTART:20140127T200000Z
DTEND:20140127T210000Z
UID:TALK49996@talks.cam.ac.uk
CONTACT:35783
DESCRIPTION:Abstract not available
LOCATION:Department of Pharmacology Lecture Theatre\, Tennis Court Road
END:VEVENT
END:VCALENDAR
